BEGIN:VCALENDAR
VERSION:2.0
PRODID:-//Partners Pharmacy - ECPv6.15.18//NONSGML v1.0//EN
CALSCALE:GREGORIAN
METHOD:PUBLISH
X-WR-CALNAME:Partners Pharmacy
X-ORIGINAL-URL:https://www.partnerspharmacy.com
X-WR-CALDESC:Events for Partners Pharmacy
REFRESH-INTERVAL;VALUE=DURATION:PT1H
X-Robots-Tag:noindex
X-PUBLISHED-TTL:PT1H
BEGIN:VTIMEZONE
TZID:UTC
BEGIN:STANDARD
TZOFFSETFROM:+0000
TZOFFSETTO:+0000
TZNAME:UTC
DTSTART:20190101T000000
END:STANDARD
END:VTIMEZONE
BEGIN:VEVENT
DTSTART;TZID=UTC:20201007T140000
DTEND;TZID=UTC:20201007T150000
DTSTAMP:20260419T164042
CREATED:20200926T113457Z
LAST-MODIFIED:20200926T113457Z
UID:127-1602079200-1602082800@www.partnerspharmacy.com
SUMMARY:Hemp … THC …. CBD Oh My!!
DESCRIPTION:The mention of marijuana evokes a wide range of questions among health care providers\, from legality to potential for medical benefit. Long Term Care communities need to be aware of these and other issues. \nDespite a lack of robust evidence\, cannabinoids – such as CBD – are often assumed to be safe and effective and are more widely used in the LTC population than Marijuana. \nIt seems that the geriatric population has a higher likelihood of having multiple comorbidities and is subject to polypharmacy. Medicinal Marijuana use or use of CBD products complicates the picture with possible additive central nervous system side effects. \nNatural products\, including cannabinoids\, have shown promise for potential use as nonopioid analgesic; however\, we need to know more about: \n\nDo they really work?\nWhat do they do in and to your body?\nHow they might be integrated into multidisciplinary pain management?\n\nWhere does the evidence stand on the clinical use of these products? \nPlease Join Jan Pizzolanti\, RPh\, CGP – President of Experienced RX Consults \nPlease forward to others within your facility that would benefit from participating.
URL:https://www.partnerspharmacy.com/event/hemp-thc-cbd-oh-my/
CATEGORIES:Webinar
ATTACH;FMTTYPE=image/jpeg:https://www.partnerspharmacy.com/wp-content/uploads/2020/09/11062b_c094368592194853975b6a9305c5add0_mv2.jpg
END:VEVENT
END:VCALENDAR